BEGIN:VCALENDAR
VERSION:2.0
PRODID:spatie/icalendar-generator
DESCRIPTION:Events from Burke Junction EST. 1981
X-WR-CALDESC:Events from Burke Junction EST. 1981
REFRESH-INTERVAL;VALUE=DURATION:PT1440M
X-PUBLISHED-TTL:PT1440M
BEGIN:VTIMEZONE
TZID:Etc/GMT+0
BEGIN:STANDARD
DTSTART:20250804T150000Z
TZOFFSETFROM:+0000
TZOFFSETTO:+0000
END:STANDARD
END:VTIMEZONE
BEGIN:VTIMEZONE
TZID:UTC
BEGIN:STANDARD
DTSTART:20250724T153346Z
TZOFFSETFROM:+0000
TZOFFSETTO:+0000
END:STANDARD
END:VTIMEZONE
BEGIN:VEVENT
UID:351-34
DTSTAMP:20260420T153346Z
SUMMARY:Burke Junction Bike Night 2026
LOCATION:
ORGANIZER;CN=Bu7k3Ju46Ti04:MAILTO:developer@accessdesignstudio.com
DTSTART;TZID=Etc/GMT+0:20260501T150000
DTEND;TZID=Etc/GMT+0:20260501T220000
X-ALT-DESC;FMTTYPE=TEXT/HTML:
CATEGORIES:General
URL;VALUE=URI:https://burkejunction.com/mc-events/burke-junction-bike-night
 -2026/
METHOD:PUBLISH
END:VEVENT
END:VCALENDAR